BEGIN:VCALENDAR
PRODID:-//SINGPromos.com//NONSGML v1.0//EN
VERSION:2.0
CALSCALE:GREGORIAN
METHOD:PUBLISH
X-WR-CALNAME:SINGPromos.com
X-ORIGINAL-URL:https://singpromos.com
X-WR-CALDESC:Events for SINGPromos.com
BEGIN:VEVENT
DTSTART:20130920T000000
DTEND:20130926T235900
DTSTAMP:20260420T061850
CREATED:20130921T140516
LAST-MODIFIED:20130921T153339
UID:76479@https://singpromos.com
SUMMARY:Cold Storage Wines & Grocery Offers 20 - 26 Sep 2013
DESCRIPTION:Cold Storage is having some special offers on wines, Brand's, Coca-Cola soft drinks, Lay's potato crisps, New Moon Essence of Chicken and more. For more information, visit [ https://singpromos.com/dining-restaurants-food/cold-storage-wines-grocery-offers-20-26-sep-2013-76479/ ]. 
LOCATION:
URL:https://singpromos.com/dining-restaurants-food/cold-storage-wines-grocery-offers-20-26-sep-2013-76479/
END:VEVENT
END:VCALENDAR