BEGIN:VCALENDAR
PRODID:-//SINGPromos.com//NONSGML v1.0//EN
VERSION:2.0
CALSCALE:GREGORIAN
METHOD:PUBLISH
X-WR-CALNAME:SINGPromos.com
X-ORIGINAL-URL:https://singpromos.com
X-WR-CALDESC:Events for SINGPromos.com
BEGIN:VEVENT
DTSTART:20130926T000000
DTEND:20131015T235900
DTSTAMP:20260422T082236
CREATED:20130924T105120
LAST-MODIFIED:20130924T161334
UID:76685@https://singpromos.com
SUMMARY:Hush Puppies Up To 80% Off Warehouse SALE 26 Sep - 15 Oct 2013
DESCRIPTION:The Hush Puppies Annual Warehouse Sale is back and will be happening from Thurs, 26 Sept 2013 for a limited time. For more information, visit [ https://singpromos.com/warehouse-sales/hush-puppies-up-to-80-off-warehouse-sale-26-sep-15-oct-2013-76685/ ]. 
LOCATION:17 Bukit Batok Street 22, 659587
URL:https://singpromos.com/warehouse-sales/hush-puppies-up-to-80-off-warehouse-sale-26-sep-15-oct-2013-76685/
END:VEVENT
END:VCALENDAR