BEGIN:VCALENDAR
PRODID:-//SINGPromos.com//NONSGML v1.0//EN
VERSION:2.0
CALSCALE:GREGORIAN
METHOD:PUBLISH
X-WR-CALNAME:SINGPromos.com
X-ORIGINAL-URL:https://singpromos.com
X-WR-CALDESC:Events for SINGPromos.com
BEGIN:VEVENT
DTSTART:20130926T000000
DTEND:20130930T235900
DTSTAMP:20260422T210804
CREATED:20130926T142436
LAST-MODIFIED:20130926T163614
UID:76834@https://singpromos.com
SUMMARY:Emirates Promotion Air Fares Offers 26 - 30 Sep 2013
DESCRIPTION:Find great fares for travel across Emirates worldwide network in their latest promotion air fares. For more information, visit [ https://singpromos.com/airlines-flights/emirates-promotion-air-fares-offers-26-30-sep-2013-76834/ ]. 
LOCATION:
URL:https://singpromos.com/airlines-flights/emirates-promotion-air-fares-offers-26-30-sep-2013-76834/
END:VEVENT
END:VCALENDAR