BEGIN:VCALENDAR
PRODID:-//SINGPromos.com//NONSGML v1.0//EN
VERSION:2.0
CALSCALE:GREGORIAN
METHOD:PUBLISH
X-WR-CALNAME:SINGPromos.com
X-ORIGINAL-URL:https://singpromos.com
X-WR-CALDESC:Events for SINGPromos.com
BEGIN:VEVENT
DTSTART:20130928T000000
DTEND:20130929T235900
DTSTAMP:20260422T082110
CREATED:20130927T112037
LAST-MODIFIED:20130926T184223
UID:76884@https://singpromos.com
SUMMARY:Dynasty Travel Travel Fest @ Suntec City 28 - 29 Sep 2013
DESCRIPTION:Dynasty Travel International will be having a Travel Fest at Suntec from 28 September to 29 September 2013. For more information, visit [ https://singpromos.com/happenings/dynasty-travel-travel-fest-suntec-city-28-29-sep-2013-76884/ ]. 
LOCATION:
URL:https://singpromos.com/happenings/dynasty-travel-travel-fest-suntec-city-28-29-sep-2013-76884/
END:VEVENT
END:VCALENDAR