BEGIN:VCALENDAR
PRODID:-//SINGPromos.com//NONSGML v1.0//EN
VERSION:2.0
CALSCALE:GREGORIAN
METHOD:PUBLISH
X-WR-CALNAME:SINGPromos.com
X-ORIGINAL-URL:https://singpromos.com
X-WR-CALDESC:Events for SINGPromos.com
BEGIN:VEVENT
DTSTART:20110517T000000
DTEND:20110520T235900
DTSTAMP:20260422T204204
CREATED:20110517T033721
LAST-MODIFIED:20110517T033809
UID:7693@https://singpromos.com
SUMMARY:Harvey Norman Vesak Day Electronics Specials 17 May 2011
DESCRIPTION:Models listed are Nikon Coolpix S70, Sony DSC-W380, Casio Exilim EX-H15, Cornell Retro Fan CFF-16CP, Creatiev Zioo 7" 8GB, Xbox 360 4GB Kinect Console and HP Printer DJ1000. For more information, visit [ https://singpromos.com/computers-pc/harvey-norman-vesak-day-electronics-specials-17-may-2011-7693/ ]. 
LOCATION:
URL:https://singpromos.com/computers-pc/harvey-norman-vesak-day-electronics-specials-17-may-2011-7693/
END:VEVENT
END:VCALENDAR