BEGIN:VCALENDAR
PRODID:-//SINGPromos.com//NONSGML v1.0//EN
VERSION:2.0
CALSCALE:GREGORIAN
METHOD:PUBLISH
X-WR-CALNAME:SINGPromos.com
X-ORIGINAL-URL:https://singpromos.com
X-WR-CALDESC:Events for SINGPromos.com
BEGIN:VEVENT
DTSTART:20130927T000000
DTEND:20131103T235900
DTSTAMP:20260420T032141
CREATED:20130930T091011
LAST-MODIFIED:20130929T171415
UID:77097@https://singpromos.com
SUMMARY:Samsung Laser Colour / Monochrome Printers Price List Offers 27 Sep - 3 Nov 2013
DESCRIPTION:Get Smart Savings with Samsung's new Samsung Separated Toner System. Purchase Samsung Printers and receive FREE gifts such as Shopping vouchers, microSD Card and more. For more information, visit [ https://singpromos.com/computers-pc/printers/samsung-laser-colour-monochrome-printers-price-list-offers-27-sep-3-nov-2013-77097/ ]. 
LOCATION:
URL:https://singpromos.com/computers-pc/printers/samsung-laser-colour-monochrome-printers-price-list-offers-27-sep-3-nov-2013-77097/
END:VEVENT
END:VCALENDAR