BEGIN:VCALENDAR
PRODID:-//SINGPromos.com//NONSGML v1.0//EN
VERSION:2.0
CALSCALE:GREGORIAN
METHOD:PUBLISH
X-WR-CALNAME:SINGPromos.com
X-ORIGINAL-URL:https://singpromos.com
X-WR-CALDESC:Events for SINGPromos.com
BEGIN:VEVENT
DTSTART:20130928T000000
DTEND:20131003T235900
DTSTAMP:20260422T082136
CREATED:20130930T101852
LAST-MODIFIED:20130930T101852
UID:77130@https://singpromos.com
SUMMARY:FitFlop Up To 30% Off SALE @ Isetan Scotts 28 Sep - 3 Oct 2013
DESCRIPTION:FitFlop is having a SALE at Isetan Scotts Level 1 as well as a launch of their NEW Autumn Winter Collection. For more information, visit [ https://singpromos.com/footwear/fitflop-up-to-30-off-sale-isetan-scotts-28-sep-3-oct-2013-77130/ ]. 
LOCATION:
URL:https://singpromos.com/footwear/fitflop-up-to-30-off-sale-isetan-scotts-28-sep-3-oct-2013-77130/
END:VEVENT
END:VCALENDAR