BEGIN:VCALENDAR
PRODID:-//SINGPromos.com//NONSGML v1.0//EN
VERSION:2.0
CALSCALE:GREGORIAN
METHOD:PUBLISH
X-WR-CALNAME:SINGPromos.com
X-ORIGINAL-URL:https://singpromos.com
X-WR-CALDESC:Events for SINGPromos.com
BEGIN:VEVENT
DTSTART:20130930T000000
DTEND:20131006T235900
DTSTAMP:20260422T082132
CREATED:20130930T121953
LAST-MODIFIED:20130930T102212
UID:77133@https://singpromos.com
SUMMARY:Old Chang Kee $1 Sotong Ball Onstik Promo 30 Sep - 6 Oct 2013
DESCRIPTION:Old Chang Kee is offering Sotong Ball Onstikat just $1. For more information, visit [ https://singpromos.com/dining-restaurants-food/old-chang-kee-1-sotong-ball-onstik-promo-30-sep-6-oct-2013-77133/ ]. 
LOCATION:
URL:https://singpromos.com/dining-restaurants-food/old-chang-kee-1-sotong-ball-onstik-promo-30-sep-6-oct-2013-77133/
END:VEVENT
END:VCALENDAR