BEGIN:VCALENDAR
PRODID:-//SINGPromos.com//NONSGML v1.0//EN
VERSION:2.0
CALSCALE:GREGORIAN
METHOD:PUBLISH
X-WR-CALNAME:SINGPromos.com
X-ORIGINAL-URL:https://singpromos.com
X-WR-CALDESC:Events for SINGPromos.com
BEGIN:VEVENT
DTSTART:20130930T000000
DTEND:20131007T235900
DTSTAMP:20260422T082110
CREATED:20130930T134602
LAST-MODIFIED:20130930T105014
UID:77140@https://singpromos.com
SUMMARY:Expedia Up To 65% Off Asia Hotel Bookings SALE 30 Sep - 7 Oct 2013
DESCRIPTION:Save up to 65% on hotel bookings with Expedia's latest promotion for a limited time. For more information, visit [ https://singpromos.com/vacations/expedia-up-to-65-off-asia-hotel-bookings-sale-30-sep-7-oct-2013-77140/ ]. 
LOCATION:
URL:https://singpromos.com/vacations/expedia-up-to-65-off-asia-hotel-bookings-sale-30-sep-7-oct-2013-77140/
END:VEVENT
END:VCALENDAR