BEGIN:VCALENDAR
PRODID:-//SINGPromos.com//NONSGML v1.0//EN
VERSION:2.0
CALSCALE:GREGORIAN
METHOD:PUBLISH
X-WR-CALNAME:SINGPromos.com
X-ORIGINAL-URL:https://singpromos.com
X-WR-CALDESC:Events for SINGPromos.com
BEGIN:VEVENT
DTSTART:20131011T000000
DTEND:20131017T235900
DTSTAMP:20260420T191346
CREATED:20131011T121958
LAST-MODIFIED:20131018T031353
UID:77812@https://singpromos.com
SUMMARY:Dunkin' Donuts 37% Off Box of Six Halloween Donuts @ 9 Locations 11 Oct 2013
DESCRIPTION:Bite on some delicious Dunkin' Donuts with this deal: Only $6.40 for a box of 6 Halloween Donuts at Dunkin' Donuts at 9 Locations - that's 37% off the usual price! Learn how to get this deal before it ends soon a. For more information, visit [ https://singpromos.com/dining-restaurants-food/dunkin-donuts-37-off-box-of-six-halloween-donuts-9-locations-11-oct-2013-77812/ ]. 
LOCATION:
URL:https://singpromos.com/dining-restaurants-food/dunkin-donuts-37-off-box-of-six-halloween-donuts-9-locations-11-oct-2013-77812/
END:VEVENT
END:VCALENDAR