BEGIN:VCALENDAR
PRODID:-//SINGPromos.com//NONSGML v1.0//EN
VERSION:2.0
CALSCALE:GREGORIAN
METHOD:PUBLISH
X-WR-CALNAME:SINGPromos.com
X-ORIGINAL-URL:https://singpromos.com
X-WR-CALDESC:Events for SINGPromos.com
BEGIN:VEVENT
DTSTART:20110519T000000
DTEND:20110619T235900
DTSTAMP:20260420T165240
CREATED:20110519T214216
LAST-MODIFIED:20110519T214216
UID:7782@https://singpromos.com
SUMMARY:Fox Fashion Up To 50% Off Great Singapore Sale 19 May - 19 Jun 2011
DESCRIPTION:Fox Fashion is now having the Great Singapore Sale 2011 by offering up to 50% off from today till 19 Jun 2011. For DBS/POSB credit and debit cardmembers, you can enjoy 15% off regular-priced items and additional 10% off sale items. For more information, visit [ https://singpromos.com/fashion-accessories/fox-fashion-up-to-50-off-great-singapore-sale-19-may-19-jun-2011-7782/ ]. 
LOCATION:
URL:https://singpromos.com/fashion-accessories/fox-fashion-up-to-50-off-great-singapore-sale-19-may-19-jun-2011-7782/
END:VEVENT
END:VCALENDAR