BEGIN:VCALENDAR
PRODID:-//SINGPromos.com//NONSGML v1.0//EN
VERSION:2.0
CALSCALE:GREGORIAN
METHOD:PUBLISH
X-WR-CALNAME:SINGPromos.com
X-ORIGINAL-URL:https://singpromos.com
X-WR-CALDESC:Events for SINGPromos.com
BEGIN:VEVENT
DTSTART:20131022T000000
DTEND:20131108T235900
DTSTAMP:20260420T191345
CREATED:20131022T131308
LAST-MODIFIED:20131109T014012
UID:78625@https://singpromos.com
SUMMARY:Dunkin' Donuts 37% Off Box of Six Halloween Donuts @ 9 Locations 22 Oct 2013
DESCRIPTION:Bite on some delicious Dunkin' Donuts with this deal: Only $6.40 for a box of 6 Halloween Donuts at Dunkin' Donuts at 9 Locations - that's 37% off the usual price! Learn how to get this deal before it ends soon a. For more information, visit [ https://singpromos.com/dining-restaurants-food/dunkin-donuts-37-off-box-of-six-halloween-donuts-9-locations-22-oct-2013-78625/ ]. 
LOCATION:
URL:https://singpromos.com/dining-restaurants-food/dunkin-donuts-37-off-box-of-six-halloween-donuts-9-locations-22-oct-2013-78625/
END:VEVENT
END:VCALENDAR