BEGIN:VCALENDAR
PRODID:-//SINGPromos.com//NONSGML v1.0//EN
VERSION:2.0
CALSCALE:GREGORIAN
METHOD:PUBLISH
X-WR-CALNAME:SINGPromos.com
X-ORIGINAL-URL:https://singpromos.com
X-WR-CALDESC:Events for SINGPromos.com
BEGIN:VEVENT
DTSTART:20131025T000000
DTEND:20131025T235900
DTSTAMP:20260422T082235
CREATED:20131025T114254
LAST-MODIFIED:20131025T114254
UID:78860@https://singpromos.com
SUMMARY:Courts Megastore One Day Offers 25 Oct 2013
DESCRIPTION:Courts continues one day only special prices at their Megastore today . For more information, visit [ https://singpromos.com/department-stores/courts-megastore-one-day-offers-25-oct-2013-78860/ ]. 
LOCATION:
URL:https://singpromos.com/department-stores/courts-megastore-one-day-offers-25-oct-2013-78860/
END:VEVENT
END:VCALENDAR