BEGIN:VCALENDAR
PRODID:-//SINGPromos.com//NONSGML v1.0//EN
VERSION:2.0
CALSCALE:GREGORIAN
METHOD:PUBLISH
X-WR-CALNAME:SINGPromos.com
X-ORIGINAL-URL:https://singpromos.com
X-WR-CALDESC:Events for SINGPromos.com
BEGIN:VEVENT
DTSTART:20131101T000000
DTEND:20131104T235900
DTSTAMP:20260424T025716
CREATED:20131102T134559
LAST-MODIFIED:20131102T084808
UID:79494@https://singpromos.com
SUMMARY:Best Denki TV, Appliances & Other Electronics Offers 1 - 4 Nov 2013
DESCRIPTION:Check out Best Denki's latest TV, Appliances and other electronics offers valid from 1 November to 4 November 2013. For more information, visit [ https://singpromos.com/department-stores/best-denki-tv-appliances-other-electronics-offers-1-4-nov-2013-79494/ ]. 
LOCATION:
URL:https://singpromos.com/department-stores/best-denki-tv-appliances-other-electronics-offers-1-4-nov-2013-79494/
END:VEVENT
END:VCALENDAR