BEGIN:VCALENDAR
PRODID:-//SINGPromos.com//NONSGML v1.0//EN
VERSION:2.0
CALSCALE:GREGORIAN
METHOD:PUBLISH
X-WR-CALNAME:SINGPromos.com
X-ORIGINAL-URL:https://singpromos.com
X-WR-CALDESC:Events for SINGPromos.com
BEGIN:VEVENT
DTSTART:20131107T000000
DTEND:20131108T235900
DTSTAMP:20260424T000219
CREATED:20131108T113520
LAST-MODIFIED:20131108T033850
UID:79899@https://singpromos.com
SUMMARY:Mr Bean FREE Soya Drink @ Harbourfront Centre & Raffles Place 7 - 8 Nov 2013
DESCRIPTION:Enjoy a FREE soya drink at selected locations and timings on 7 November and 8 November 2013.. For more information, visit [ https://singpromos.com/dining-restaurants-food/mr-bean-free-soya-drink-harbourfront-centre-raffles-place-7-8-nov-2013-79899/ ]. 
LOCATION:
URL:https://singpromos.com/dining-restaurants-food/mr-bean-free-soya-drink-harbourfront-centre-raffles-place-7-8-nov-2013-79899/
END:VEVENT
END:VCALENDAR