BEGIN:VCALENDAR
PRODID:-//SINGPromos.com//NONSGML v1.0//EN
VERSION:2.0
CALSCALE:GREGORIAN
METHOD:PUBLISH
X-WR-CALNAME:SINGPromos.com
X-ORIGINAL-URL:https://singpromos.com
X-WR-CALDESC:Events for SINGPromos.com
BEGIN:VEVENT
DTSTART:20131115T000000
DTEND:20131231T235900
DTSTAMP:20260422T060735
CREATED:20131119T102306
LAST-MODIFIED:20131118T012506
UID:80781@https://singpromos.com
SUMMARY:Funan Digitalife Mall Illuminated Christmas Promotions & Activities 15 Nov - 31 Dec 2013
DESCRIPTION:Switch on an Illuminated Christmas at Funan Digitalife Mall, Check out their promotions and activities valid from 15 November to 31 December 2013.. For more information, visit [ https://singpromos.com/shopping-malls/funan-digitalife-mall-illuminated-christmas-promotions-activities-15-nov-31-dec-2013-80781/ ]. 
LOCATION:
URL:https://singpromos.com/shopping-malls/funan-digitalife-mall-illuminated-christmas-promotions-activities-15-nov-31-dec-2013-80781/
END:VEVENT
END:VCALENDAR