BEGIN:VCALENDAR
PRODID:-//SINGPromos.com//NONSGML v1.0//EN
VERSION:2.0
CALSCALE:GREGORIAN
METHOD:PUBLISH
X-WR-CALNAME:SINGPromos.com
X-ORIGINAL-URL:https://singpromos.com
X-WR-CALDESC:Events for SINGPromos.com
BEGIN:VEVENT
DTSTART:20131122T000000
DTEND:20131210T235900
DTSTAMP:20260424T023530
CREATED:20131122T095509
LAST-MODIFIED:20131122T070004
UID:81000@https://singpromos.com
SUMMARY:Isetan Tiger & Happycall Kitchenware Offers 22 Nov - 10 Dec 2013
DESCRIPTION:Isetan is offering some special offers on selected Tiger Japan and Happycall products from 22 November to 10 December 2013. For more information, visit [ https://singpromos.com/kitchenware-cookware/isetan-tiger-happycall-kitchenware-offers-22-nov-10-dec-2013-81000/ ]. 
LOCATION:
URL:https://singpromos.com/kitchenware-cookware/isetan-tiger-happycall-kitchenware-offers-22-nov-10-dec-2013-81000/
END:VEVENT
END:VCALENDAR