BEGIN:VCALENDAR
PRODID:-//SINGPromos.com//NONSGML v1.0//EN
VERSION:2.0
CALSCALE:GREGORIAN
METHOD:PUBLISH
X-WR-CALNAME:SINGPromos.com
X-ORIGINAL-URL:https://singpromos.com
X-WR-CALDESC:Events for SINGPromos.com
BEGIN:VEVENT
DTSTART:20131123T000000
DTEND:20131125T235900
DTSTAMP:20260424T012018
CREATED:20131124T104320
LAST-MODIFIED:20131124T194857
UID:81197@https://singpromos.com
SUMMARY:Courts Year End Sale 23 - 25 Nov 2013
DESCRIPTION:Courts has started their Year-End Sale On Electrical and I.T at all outlets. Check out some of the offers below. For more information, visit [ https://singpromos.com/department-stores/courts-year-end-sale-23-25-nov-2013-81197/ ]. 
LOCATION:
URL:https://singpromos.com/department-stores/courts-year-end-sale-23-25-nov-2013-81197/
END:VEVENT
END:VCALENDAR