BEGIN:VCALENDAR
PRODID:-//SINGPromos.com//NONSGML v1.0//EN
VERSION:2.0
CALSCALE:GREGORIAN
METHOD:PUBLISH
X-WR-CALNAME:SINGPromos.com
X-ORIGINAL-URL:https://singpromos.com
X-WR-CALDESC:Events for SINGPromos.com
BEGIN:VEVENT
DTSTART:20131126T000000
DTEND:20131208T235900
DTSTAMP:20260424T013527
CREATED:20131126T103609
LAST-MODIFIED:20131126T103609
UID:81449@https://singpromos.com
SUMMARY:Microsoft Surface RT 10% OFF Student Promo Offer 26 Nov 2013
DESCRIPTION:Students enjoy 10% off the Microsoft Surface at the Microsoft Store . For more information, visit [ https://singpromos.com/computers-pc/microsoft-surface-rt-10-off-student-promo-offer-26-nov-2013-81449/ ]. 
LOCATION:
URL:https://singpromos.com/computers-pc/microsoft-surface-rt-10-off-student-promo-offer-26-nov-2013-81449/
END:VEVENT
END:VCALENDAR