BEGIN:VCALENDAR
PRODID:-//SINGPromos.com//NONSGML v1.0//EN
VERSION:2.0
CALSCALE:GREGORIAN
METHOD:PUBLISH
X-WR-CALNAME:SINGPromos.com
X-ORIGINAL-URL:https://singpromos.com
X-WR-CALDESC:Events for SINGPromos.com
BEGIN:VEVENT
DTSTART:20131126T000000
DTEND:20131202T235900
DTSTAMP:20260420T040715
CREATED:20131126T171950
LAST-MODIFIED:20131126T171950
UID:81487@https://singpromos.com
SUMMARY:Malaysia Airlines Year End Promotion Air Fares 26 Nov - 2 Dec 2013
DESCRIPTION:Malaysia Airlines is having a Year End Special promotion till 2 December 2013. For more information, visit [ https://singpromos.com/airlines-flights/malaysia-airlines-year-end-promotion-air-fares-26-nov-2-dec-2013-81487/ ]. 
LOCATION:
URL:https://singpromos.com/airlines-flights/malaysia-airlines-year-end-promotion-air-fares-26-nov-2-dec-2013-81487/
END:VEVENT
END:VCALENDAR