BEGIN:VCALENDAR
PRODID:-//SINGPromos.com//NONSGML v1.0//EN
VERSION:2.0
CALSCALE:GREGORIAN
METHOD:PUBLISH
X-WR-CALNAME:SINGPromos.com
X-ORIGINAL-URL:https://singpromos.com
X-WR-CALDESC:Events for SINGPromos.com
BEGIN:VEVENT
DTSTART:20131129T000000
DTEND:20131202T235900
DTSTAMP:20260422T082312
CREATED:20131129T135203
LAST-MODIFIED:20131129T135722
UID:81693@https://singpromos.com
SUMMARY:MiniInTheBox Black Friday Up To 90% OFF Flash SALE 29 Nov - 2 Dec 2013
DESCRIPTION:Find thousands of products offered at incredible wholesale prices. Each and every item comes included with FREE *worldwide* shipping.. For more information, visit [ https://singpromos.com/department-stores/miniinthebox-black-friday-up-to-90-off-flash-sale-29-nov-2-dec-2013-81693/ ]. 
LOCATION:
URL:https://singpromos.com/department-stores/miniinthebox-black-friday-up-to-90-off-flash-sale-29-nov-2-dec-2013-81693/
END:VEVENT
END:VCALENDAR