BEGIN:VCALENDAR
PRODID:-//SINGPromos.com//NONSGML v1.0//EN
VERSION:2.0
CALSCALE:GREGORIAN
METHOD:PUBLISH
X-WR-CALNAME:SINGPromos.com
X-ORIGINAL-URL:https://singpromos.com
X-WR-CALDESC:Events for SINGPromos.com
BEGIN:VEVENT
DTSTART:20131212T000000
DTEND:20131222T235900
DTSTAMP:20260422T074626
CREATED:20131130T161713
LAST-MODIFIED:20131130T122039
UID:81790@https://singpromos.com
SUMMARY:Bally, Dunhill, Versace & More End of Season SALE From 12 Dec 2013
DESCRIPTION:From 12 December 2013, several luxury brands will have started their End of Season SALE. For more information, visit [ https://singpromos.com/fashion-accessories/bally-dunhill-versace-more-end-of-season-sale-from-12-dec-2013-81790/ ]. 
LOCATION:
URL:https://singpromos.com/fashion-accessories/bally-dunhill-versace-more-end-of-season-sale-from-12-dec-2013-81790/
END:VEVENT
END:VCALENDAR