BEGIN:VCALENDAR
PRODID:-//SINGPromos.com//NONSGML v1.0//EN
VERSION:2.0
CALSCALE:GREGORIAN
METHOD:PUBLISH
X-WR-CALNAME:SINGPromos.com
X-ORIGINAL-URL:https://singpromos.com
X-WR-CALDESC:Events for SINGPromos.com
BEGIN:VEVENT
DTSTART:20131129T000000
DTEND:20131231T235900
DTSTAMP:20260422T074508
CREATED:20131130T163049
LAST-MODIFIED:20131130T190847
UID:81815@https://singpromos.com
SUMMARY:Lowrys Farm Up To 70% OFF Christmas SALE @ Islandwide 29 Nov - 31 Dec 2013
DESCRIPTION:Get some style and savings with Lowrys Farm Christmas Sale from 29 November to 31 Dec 2013.. For more information, visit [ https://singpromos.com/fashion-accessories/lowrys-farm-up-to-70-off-christmas-sale-islandwide-29-nov-31-dec-2013-81815/ ]. 
LOCATION:
URL:https://singpromos.com/fashion-accessories/lowrys-farm-up-to-70-off-christmas-sale-islandwide-29-nov-31-dec-2013-81815/
END:VEVENT
END:VCALENDAR