BEGIN:VCALENDAR
PRODID:-//SINGPromos.com//NONSGML v1.0//EN
VERSION:2.0
CALSCALE:GREGORIAN
METHOD:PUBLISH
X-WR-CALNAME:SINGPromos.com
X-ORIGINAL-URL:https://singpromos.com
X-WR-CALDESC:Events for SINGPromos.com
BEGIN:VEVENT
DTSTART:20131129T000000
DTEND:20131208T235900
DTSTAMP:20260422T074752
CREATED:20131130T191225
LAST-MODIFIED:20131130T191225
UID:81822@https://singpromos.com
SUMMARY:Branded Sports Up To 80% OFF Warehouse SALE @ The Splendour 29 Nov - 8 Dec 2013
DESCRIPTION:Check out some sports bargains at this branded sale from 29 NOV - 8 DEC 2013, 10AM - 7PM. For more information, visit [ https://singpromos.com/warehouse-sales/branded-sports-up-to-80-off-warehouse-sale-the-splendour-29-nov-8-dec-2013-81822/ ]. 
LOCATION:31 Bukit Batok Crescent, 658070
URL:https://singpromos.com/warehouse-sales/branded-sports-up-to-80-off-warehouse-sale-the-splendour-29-nov-8-dec-2013-81822/
END:VEVENT
END:VCALENDAR