BEGIN:VCALENDAR
PRODID:-//SINGPromos.com//NONSGML v1.0//EN
VERSION:2.0
CALSCALE:GREGORIAN
METHOD:PUBLISH
X-WR-CALNAME:SINGPromos.com
X-ORIGINAL-URL:https://singpromos.com
X-WR-CALDESC:Events for SINGPromos.com
BEGIN:VEVENT
DTSTART:20131129T000000
DTEND:20131208T235900
DTSTAMP:20260422T074626
CREATED:20131130T201343
LAST-MODIFIED:20131130T192203
UID:81826@https://singpromos.com
SUMMARY:Branded Sports Warehouse SALE @ Aljunied (Fri-Sun) 29 Nov - 8 Dec 2013
DESCRIPTION:Check out some branded fashion bargains at this sale happening from  Mondays to Fridays, 11am to 7pm.. For more information, visit [ https://singpromos.com/warehouse-sales/branded-sports-warehouse-sale-aljunied-fri-sun-29-nov-8-dec-2013-81826/ ]. 
LOCATION:#02-07 Aljunied Road, 389835
URL:https://singpromos.com/warehouse-sales/branded-sports-warehouse-sale-aljunied-fri-sun-29-nov-8-dec-2013-81826/
END:VEVENT
END:VCALENDAR