BEGIN:VCALENDAR
PRODID:-//SINGPromos.com//NONSGML v1.0//EN
VERSION:2.0
CALSCALE:GREGORIAN
METHOD:PUBLISH
X-WR-CALNAME:SINGPromos.com
X-ORIGINAL-URL:https://singpromos.com
X-WR-CALDESC:Events for SINGPromos.com
BEGIN:VEVENT
DTSTART:20131130T000000
DTEND:20131201T235900
DTSTAMP:20260424T012027
CREATED:20131201T105252
LAST-MODIFIED:20131201T133753
UID:81890@https://singpromos.com
SUMMARY:Courts Megastore 7th Anniversary Offers 30 Nov - 1 Dec 2013
DESCRIPTION:The Greatest deals in 2013 is happening in Megastore! Up to 3000 items at only $7. For more information, visit [ https://singpromos.com/department-stores/courts-megastore-7th-anniversary-offers-30-nov-1-dec-2013-81890/ ]. 
LOCATION:
URL:https://singpromos.com/department-stores/courts-megastore-7th-anniversary-offers-30-nov-1-dec-2013-81890/
END:VEVENT
END:VCALENDAR