BEGIN:VCALENDAR
PRODID:-//SINGPromos.com//NONSGML v1.0//EN
VERSION:2.0
CALSCALE:GREGORIAN
METHOD:PUBLISH
X-WR-CALNAME:SINGPromos.com
X-ORIGINAL-URL:https://singpromos.com
X-WR-CALDESC:Events for SINGPromos.com
BEGIN:VEVENT
DTSTART:20131203T000000
DTEND:20131231T235900
DTSTAMP:20260422T082137
CREATED:20131203T143234
LAST-MODIFIED:20131203T143542
UID:82120@https://singpromos.com
SUMMARY:MiniInTheBox $3 Off Storewide Coupon Code 3 - 31 Dec 2013
DESCRIPTION:Enjoy $3 OFF when you make a minimum purchase of $30.. For more information, visit [ https://singpromos.com/department-stores/miniinthebox-3-off-storewide-coupon-code-3-31-dec-2013-82120/ ]. 
LOCATION:
URL:https://singpromos.com/department-stores/miniinthebox-3-off-storewide-coupon-code-3-31-dec-2013-82120/
END:VEVENT
END:VCALENDAR