BEGIN:VCALENDAR
PRODID:-//SINGPromos.com//NONSGML v1.0//EN
VERSION:2.0
CALSCALE:GREGORIAN
METHOD:PUBLISH
X-WR-CALNAME:SINGPromos.com
X-ORIGINAL-URL:https://singpromos.com
X-WR-CALDESC:Events for SINGPromos.com
BEGIN:VEVENT
DTSTART:20131122T000000
DTEND:20140131T235900
DTSTAMP:20260420T061927
CREATED:20131208T160811
LAST-MODIFIED:20140113T112300
UID:82444@https://singpromos.com
SUMMARY:Panasonic Digital Cameras & Camcorders Promotion Offers Price List 22 Nov 2013 - 31 Jan 2014
DESCRIPTION:Let Panasonic spread the joy and invite you to a world of privileges. With purchase of selected products, | Panasonic proudly rewards you with an RWS Invites membership (worth $150).. For more information, visit [ https://singpromos.com/digital-cameras-dslr/panasonic-digital-cameras-camcorders-promotion-offers-price-list-22-nov-2013-6-jan-2014-82444/ ]. 
LOCATION:
URL:https://singpromos.com/digital-cameras-dslr/panasonic-digital-cameras-camcorders-promotion-offers-price-list-22-nov-2013-6-jan-2014-82444/
END:VEVENT
END:VCALENDAR