BEGIN:VCALENDAR
PRODID:-//SINGPromos.com//NONSGML v1.0//EN
VERSION:2.0
CALSCALE:GREGORIAN
METHOD:PUBLISH
X-WR-CALNAME:SINGPromos.com
X-ORIGINAL-URL:https://singpromos.com
X-WR-CALDESC:Events for SINGPromos.com
BEGIN:VEVENT
DTSTART:20131207T000000
DTEND:20131208T235900
DTSTAMP:20260423T220346
CREATED:20131208T092546
LAST-MODIFIED:20131207T231914
UID:82605@https://singpromos.com
SUMMARY:Courts Megastore 7th Anniversary Offers 7 - 8 Dec 2013
DESCRIPTION:Courts is having a Megastore 7th Anniversary Offers On Electrical and I.T at all outlets. Check out some of the offers below. For more information, visit [ https://singpromos.com/department-stores/courts-megastore-7th-anniversary-offers-7-8-dec-2013-82605/ ]. 
LOCATION:
URL:https://singpromos.com/department-stores/courts-megastore-7th-anniversary-offers-7-8-dec-2013-82605/
END:VEVENT
END:VCALENDAR