BEGIN:VCALENDAR
PRODID:-//SINGPromos.com//NONSGML v1.0//EN
VERSION:2.0
CALSCALE:GREGORIAN
METHOD:PUBLISH
X-WR-CALNAME:SINGPromos.com
X-ORIGINAL-URL:https://singpromos.com
X-WR-CALDESC:Events for SINGPromos.com
BEGIN:VEVENT
DTSTART:20131216T000000
DTEND:20131222T235900
DTSTAMP:20260422T082314
CREATED:20131214T100740
LAST-MODIFIED:20131216T182721
UID:82944@https://singpromos.com
SUMMARY:Isetan Fitflop & Hunter Up To 40% OFF @ Parkway Parade 16 - 22 Dec 2013
DESCRIPTION:Isetan will be having a branded promotion event at Isetan Katong from 16 December to 22 December 2013. For more information, visit [ https://singpromos.com/footwear/isetan-fitflop-hunter-up-to-40-off-parkway-parade-16-22-dec-2013-82944/ ]. 
LOCATION:
URL:https://singpromos.com/footwear/isetan-fitflop-hunter-up-to-40-off-parkway-parade-16-22-dec-2013-82944/
END:VEVENT
END:VCALENDAR