BEGIN:VCALENDAR
PRODID:-//SINGPromos.com//NONSGML v1.0//EN
VERSION:2.0
CALSCALE:GREGORIAN
METHOD:PUBLISH
X-WR-CALNAME:SINGPromos.com
X-ORIGINAL-URL:https://singpromos.com
X-WR-CALDESC:Events for SINGPromos.com
BEGIN:VEVENT
DTSTART:20131218T000000
DTEND:20140115T235900
DTSTAMP:20260422T081547
CREATED:20131218T142550
LAST-MODIFIED:20131217T174724
UID:83587@https://singpromos.com
SUMMARY:Courts Online Store $80 OFF Coupon Code 18 Dec 2013 - 15 Jan 2014
DESCRIPTION:Get $15 off when you key in the promo coupon code below after checking out of their online store. Valid with a minimum purchase of $300. For more information, visit [ https://singpromos.com/department-stores/courts-online-store-80-off-coupon-code-18-dec-2013-15-jan-2014-83587/ ]. 
LOCATION:
URL:https://singpromos.com/department-stores/courts-online-store-80-off-coupon-code-18-dec-2013-15-jan-2014-83587/
END:VEVENT
END:VCALENDAR