BEGIN:VCALENDAR
PRODID:-//SINGPromos.com//NONSGML v1.0//EN
VERSION:2.0
CALSCALE:GREGORIAN
METHOD:PUBLISH
X-WR-CALNAME:SINGPromos.com
X-ORIGINAL-URL:https://singpromos.com
X-WR-CALDESC:Events for SINGPromos.com
BEGIN:VEVENT
DTSTART:20131218T000000
DTEND:20131218T235900
DTSTAMP:20260422T081540
CREATED:20131218T140831
LAST-MODIFIED:20131219T094837
UID:83590@https://singpromos.com
SUMMARY:Luxola 30% OFF Storewide Coupon Code 18 Dec 2013
DESCRIPTION:Enjoy 30% off storewide on 18 December with the coupon code below from 9pm to 10pm and 25% off from 10pm to 11pm. For more information, visit [ https://singpromos.com/department-stores/luxola-30-off-storewide-coupon-code-18-dec-2013-83590/ ]. 
LOCATION:
URL:https://singpromos.com/department-stores/luxola-30-off-storewide-coupon-code-18-dec-2013-83590/
END:VEVENT
END:VCALENDAR