BEGIN:VCALENDAR
PRODID:-//SINGPromos.com//NONSGML v1.0//EN
VERSION:2.0
CALSCALE:GREGORIAN
METHOD:PUBLISH
X-WR-CALNAME:SINGPromos.com
X-ORIGINAL-URL:https://singpromos.com
X-WR-CALDESC:Events for SINGPromos.com
BEGIN:VEVENT
DTSTART:20131218T000000
DTEND:20131222T235900
DTSTAMP:20260422T081540
CREATED:20131218T163519
LAST-MODIFIED:20131218T151115
UID:83614@https://singpromos.com
SUMMARY:Air Asia From RM4 Promo Air fares 18 - 22 Dec 2013
DESCRIPTION:Jingle Bells, Jingle Bells, Low Fares All the Way with Air Asia's latest promotion!. For more information, visit [ https://singpromos.com/airlines-flights/air-asia-from-rm4-promo-air-fares-18-22-dec-2013-83614/ ]. 
LOCATION:
URL:https://singpromos.com/airlines-flights/air-asia-from-rm4-promo-air-fares-18-22-dec-2013-83614/
END:VEVENT
END:VCALENDAR