BEGIN:VCALENDAR
PRODID:-//SINGPromos.com//NONSGML v1.0//EN
VERSION:2.0
CALSCALE:GREGORIAN
METHOD:PUBLISH
X-WR-CALNAME:SINGPromos.com
X-ORIGINAL-URL:https://singpromos.com
X-WR-CALDESC:Events for SINGPromos.com
BEGIN:VEVENT
DTSTART:20131204T000000
DTEND:20131231T235900
DTSTAMP:20260422T081540
CREATED:20131218T153317
LAST-MODIFIED:20131218T153317
UID:83621@https://singpromos.com
SUMMARY:7-Eleven Chicken Cabonara with Penne Pasta Quick Bite 4 - 31 Dec 2013
DESCRIPTION:Looking for a speedy lunch? Grab 7-Eleven's Chicken Cabonara with Penne Pasta for a quick but hearty meal. For more information, visit [ https://singpromos.com/dining-restaurants-food/7-eleven-chicken-cabonara-with-penne-pasta-quick-bite-4-31-dec-2013-83621/ ]. 
LOCATION:
URL:https://singpromos.com/dining-restaurants-food/7-eleven-chicken-cabonara-with-penne-pasta-quick-bite-4-31-dec-2013-83621/
END:VEVENT
END:VCALENDAR