BEGIN:VCALENDAR
PRODID:-//SINGPromos.com//NONSGML v1.0//EN
VERSION:2.0
CALSCALE:GREGORIAN
METHOD:PUBLISH
X-WR-CALNAME:SINGPromos.com
X-ORIGINAL-URL:https://singpromos.com
X-WR-CALDESC:Events for SINGPromos.com
BEGIN:VEVENT
DTSTART:20131216T000000
DTEND:20131229T235900
DTSTAMP:20260422T081540
CREATED:20131218T155510
LAST-MODIFIED:20131218T153954
UID:83624@https://singpromos.com
SUMMARY:Early Learning Centre 20% OFF With $150 Spend Promo 16 Dec 2013
DESCRIPTION:Enjoy 20% off with $150 nett purchase at all Early Learning Centre stores for a limited time. For more information, visit [ https://singpromos.com/kids/early-learning-centre-20-off-with-150-spend-promo-16-dec-2013-83624/ ]. 
LOCATION:
URL:https://singpromos.com/kids/early-learning-centre-20-off-with-150-spend-promo-16-dec-2013-83624/
END:VEVENT
END:VCALENDAR