BEGIN:VCALENDAR
PRODID:-//SINGPromos.com//NONSGML v1.0//EN
VERSION:2.0
CALSCALE:GREGORIAN
METHOD:PUBLISH
X-WR-CALNAME:SINGPromos.com
X-ORIGINAL-URL:https://singpromos.com
X-WR-CALDESC:Events for SINGPromos.com
BEGIN:VEVENT
DTSTART:20131218T000000
DTEND:20140106T235900
DTSTAMP:20260422T081525
CREATED:20131218T183012
LAST-MODIFIED:20131218T183634
UID:83647@https://singpromos.com
SUMMARY:Domino's Pizza Delivery Discount Coupon Codes 18 Dec 2013 - 6 Jan 2014
DESCRIPTION:Domino's Pizza has released some coupon codes you can use when ordering their pizzas online till 6 Jan 2014. Valid for online orders only.. For more information, visit [ https://singpromos.com/dining-restaurants-food/dominos-pizza-delivery-discount-coupon-codes-18-dec-2013-6-jan-2014-83647/ ]. 
LOCATION:
URL:https://singpromos.com/dining-restaurants-food/dominos-pizza-delivery-discount-coupon-codes-18-dec-2013-6-jan-2014-83647/
END:VEVENT
END:VCALENDAR