BEGIN:VCALENDAR
PRODID:-//SINGPromos.com//NONSGML v1.0//EN
VERSION:2.0
CALSCALE:GREGORIAN
METHOD:PUBLISH
X-WR-CALNAME:SINGPromos.com
X-ORIGINAL-URL:https://singpromos.com
X-WR-CALDESC:Events for SINGPromos.com
BEGIN:VEVENT
DTSTART:20131218T000000
DTEND:20131222T235900
DTSTAMP:20260422T081540
CREATED:20131219T094559
LAST-MODIFIED:20131218T192029
UID:83654@https://singpromos.com
SUMMARY:Levi's 50% OFF Jeans Promo 18 Dec 2013
DESCRIPTION:Levi's is offering 50% OFF jeans for a limited time. For more information, visit [ https://singpromos.com/fashion-accessories/levis-50-off-jeans-promo-18-dec-2013-83654/ ]. 
LOCATION:
URL:https://singpromos.com/fashion-accessories/levis-50-off-jeans-promo-18-dec-2013-83654/
END:VEVENT
END:VCALENDAR