BEGIN:VCALENDAR
PRODID:-//SINGPromos.com//NONSGML v1.0//EN
VERSION:2.0
CALSCALE:GREGORIAN
METHOD:PUBLISH
X-WR-CALNAME:SINGPromos.com
X-ORIGINAL-URL:https://singpromos.com
X-WR-CALDESC:Events for SINGPromos.com
BEGIN:VEVENT
DTSTART:20131221T000000
DTEND:20131225T235900
DTSTAMP:20260422T075746
CREATED:20131222T091616
LAST-MODIFIED:20131221T233113
UID:83991@https://singpromos.com
SUMMARY:Courts 5 Days Holiday SALE Offers 21 - 25 Dec 2013
DESCRIPTION:Courts is having a Holiday SALE for five days at all Courts stores . For more information, visit [ https://singpromos.com/department-stores/courts-5-days-holiday-sale-offers-21-25-dec-2013-83991/ ]. 
LOCATION:
URL:https://singpromos.com/department-stores/courts-5-days-holiday-sale-offers-21-25-dec-2013-83991/
END:VEVENT
END:VCALENDAR