BEGIN:VCALENDAR
PRODID:-//SINGPromos.com//NONSGML v1.0//EN
VERSION:2.0
CALSCALE:GREGORIAN
METHOD:PUBLISH
X-WR-CALNAME:SINGPromos.com
X-ORIGINAL-URL:https://singpromos.com
X-WR-CALDESC:Events for SINGPromos.com
BEGIN:VEVENT
DTSTART:20131228T000000
DTEND:20140105T235900
DTSTAMP:20260422T080531
CREATED:20131229T183001
LAST-MODIFIED:20140104T185436
UID:84537@https://singpromos.com
SUMMARY:Takashimaya Home Talk Promo Offers 28 Dec 2013 - 5 Jan 2014
DESCRIPTION:Takashimaya is having a "Home Talk" event till 5 January 2014 at Takashimaya Square, B2.. For more information, visit [ https://singpromos.com/department-stores/takashimaya-home-talk-promo-offers-28-dec-2013-5-jan-2014-84537/ ]. 
LOCATION:
URL:https://singpromos.com/department-stores/takashimaya-home-talk-promo-offers-28-dec-2013-5-jan-2014-84537/
END:VEVENT
END:VCALENDAR