BEGIN:VCALENDAR
PRODID:-//SINGPromos.com//NONSGML v1.0//EN
VERSION:2.0
CALSCALE:GREGORIAN
METHOD:PUBLISH
X-WR-CALNAME:SINGPromos.com
X-ORIGINAL-URL:https://singpromos.com
X-WR-CALDESC:Events for SINGPromos.com
BEGIN:VEVENT
DTSTART:20131227T000000
DTEND:20131229T235900
DTSTAMP:20260422T080607
CREATED:20131228T191935
LAST-MODIFIED:20131228T192140
UID:84542@https://singpromos.com
SUMMARY:Fragrance Foodstuff Bakkwa & More Promo Offers 27 - 29 Dec 2013
DESCRIPTION:Check out Fragrance Foodstuff's special weekend promotion offers valid from 27 December to 29 December 2013. For more information, visit [ https://singpromos.com/dining-restaurants-food/fragrance-foodstuff-bakkwa-more-promo-offers-27-29-dec-2013-84542/ ]. 
LOCATION:
URL:https://singpromos.com/dining-restaurants-food/fragrance-foodstuff-bakkwa-more-promo-offers-27-29-dec-2013-84542/
END:VEVENT
END:VCALENDAR