BEGIN:VCALENDAR
PRODID:-//SINGPromos.com//NONSGML v1.0//EN
VERSION:2.0
CALSCALE:GREGORIAN
METHOD:PUBLISH
X-WR-CALNAME:SINGPromos.com
X-ORIGINAL-URL:https://singpromos.com
X-WR-CALDESC:Events for SINGPromos.com
BEGIN:VEVENT
DTSTART:20131227T000000
DTEND:20140105T235900
DTSTAMP:20260422T080531
CREATED:20131229T112525
LAST-MODIFIED:20131228T192820
UID:84548@https://singpromos.com
SUMMARY:Dockers 50% OFF Storewide Post Christmas SALE 27 Dec 2013
DESCRIPTION:Dockers is having their post Christmas SALE with 50% OFF Storewide. For more information, visit [ https://singpromos.com/fashion-accessories/dockers-50-off-storewide-post-christmas-sale-27-dec-2013-84548/ ]. 
LOCATION:
URL:https://singpromos.com/fashion-accessories/dockers-50-off-storewide-post-christmas-sale-27-dec-2013-84548/
END:VEVENT
END:VCALENDAR