BEGIN:VCALENDAR
PRODID:-//SINGPromos.com//NONSGML v1.0//EN
VERSION:2.0
CALSCALE:GREGORIAN
METHOD:PUBLISH
X-WR-CALNAME:SINGPromos.com
X-ORIGINAL-URL:https://singpromos.com
X-WR-CALDESC:Events for SINGPromos.com
BEGIN:VEVENT
DTSTART:20131226T000000
DTEND:20140101T235900
DTSTAMP:20260422T080607
CREATED:20131228T202834
LAST-MODIFIED:20131228T193340
UID:84552@https://singpromos.com
SUMMARY:Action City Up To 50% OFF Post Christmas SALE 26 Dec 2013 - 1 Jan 2014
DESCRIPTION:Action City is having their Post Christmas SALE till 1 Jan 2014.. For more information, visit [ https://singpromos.com/department-stores/action-city-up-to-50-off-post-christmas-sale-26-dec-2013-1-jan-2014-84552/ ]. 
LOCATION:
URL:https://singpromos.com/department-stores/action-city-up-to-50-off-post-christmas-sale-26-dec-2013-1-jan-2014-84552/
END:VEVENT
END:VCALENDAR