BEGIN:VCALENDAR
PRODID:-//SINGPromos.com//NONSGML v1.0//EN
VERSION:2.0
CALSCALE:GREGORIAN
METHOD:PUBLISH
X-WR-CALNAME:SINGPromos.com
X-ORIGINAL-URL:https://singpromos.com
X-WR-CALDESC:Events for SINGPromos.com
BEGIN:VEVENT
DTSTART:20131227T000000
DTEND:20140109T235900
DTSTAMP:20260422T080607
CREATED:20131229T163818
LAST-MODIFIED:20131228T202541
UID:84555@https://singpromos.com
SUMMARY:Muji Stationery 10% OFF Two Items Promo 27 Dec 2013 - 9 Jan 2014
DESCRIPTION:MUJI is having a Back to School Promotion - enjoy 10% OFF stationery items. For more information, visit [ https://singpromos.com/books/muji-stationery-10-off-two-items-promo-27-dec-2013-9-jan-2014-84555/ ]. 
LOCATION:
URL:https://singpromos.com/books/muji-stationery-10-off-two-items-promo-27-dec-2013-9-jan-2014-84555/
END:VEVENT
END:VCALENDAR