BEGIN:VCALENDAR
PRODID:-//SINGPromos.com//NONSGML v1.0//EN
VERSION:2.0
CALSCALE:GREGORIAN
METHOD:PUBLISH
X-WR-CALNAME:SINGPromos.com
X-ORIGINAL-URL:https://singpromos.com
X-WR-CALDESC:Events for SINGPromos.com
BEGIN:VEVENT
DTSTART:20131228T000000
DTEND:20140112T235900
DTSTAMP:20260422T080607
CREATED:20131229T134155
LAST-MODIFIED:20131228T234853
UID:84567@https://singpromos.com
SUMMARY:Watsons Up To 30% OFF Selected Brands & $10 OFF Abalone Gift Sets 28 Dec 2013 - 12 Jan 2014
DESCRIPTION:Enjoy up to 30% off on your favourite beauty and wellness brands + 3% cash rebate when you charge to your POSB Everyday Card. For more information, visit [ https://singpromos.com/department-stores/watsons-up-to-30-off-selected-brands-10-off-abalone-gift-sets-28-dec-2013-12-jan-2014-84567/ ]. 
LOCATION:
URL:https://singpromos.com/department-stores/watsons-up-to-30-off-selected-brands-10-off-abalone-gift-sets-28-dec-2013-12-jan-2014-84567/
END:VEVENT
END:VCALENDAR