BEGIN:VCALENDAR
PRODID:-//SINGPromos.com//NONSGML v1.0//EN
VERSION:2.0
CALSCALE:GREGORIAN
METHOD:PUBLISH
X-WR-CALNAME:SINGPromos.com
X-ORIGINAL-URL:https://singpromos.com
X-WR-CALDESC:Events for SINGPromos.com
BEGIN:VEVENT
DTSTART:20131230T000000
DTEND:20140102T235900
DTSTAMP:20260422T080643
CREATED:20131230T111642
LAST-MODIFIED:20131230T111642
UID:84598@https://singpromos.com
SUMMARY:Fragrance Foodstuff Bakkwa & More Promo Offers 30 Dec 2013 - 2 Jan 2014
DESCRIPTION:Fragrance Foodstuff is having their Year End SALE promotion offers valid from 30 December 2013 to 2 January 2014 . For more information, visit [ https://singpromos.com/dining-restaurants-food/fragrance-foodstuff-bakkwa-more-promo-offers-30-dec-2013-2-jan-2014-84598/ ]. 
LOCATION:
URL:https://singpromos.com/dining-restaurants-food/fragrance-foodstuff-bakkwa-more-promo-offers-30-dec-2013-2-jan-2014-84598/
END:VEVENT
END:VCALENDAR