BEGIN:VCALENDAR
PRODID:-//SINGPromos.com//NONSGML v1.0//EN
VERSION:2.0
CALSCALE:GREGORIAN
METHOD:PUBLISH
X-WR-CALNAME:SINGPromos.com
X-ORIGINAL-URL:https://singpromos.com
X-WR-CALDESC:Events for SINGPromos.com
BEGIN:VEVENT
DTSTART:20131231T000000
DTEND:20140102T235900
DTSTAMP:20260422T063112
CREATED:20131231T150432
LAST-MODIFIED:20131231T150517
UID:84638@https://singpromos.com
SUMMARY:Zalora 25% Off Everything New Year Coupon Codes 31 Dec 2013 - 2 Jan 2014
DESCRIPTION:Get 25% off everything with the below coupon codes when you shop at Zalora. For more information, visit [ https://singpromos.com/fashion-accessories/zalora-25-off-everything-new-year-special-coupon-codes-1-2-jan-2014-84638/ ]. 
LOCATION:
URL:https://singpromos.com/fashion-accessories/zalora-25-off-everything-new-year-special-coupon-codes-1-2-jan-2014-84638/
END:VEVENT
END:VCALENDAR