BEGIN:VCALENDAR
PRODID:-//SINGPromos.com//NONSGML v1.0//EN
VERSION:2.0
CALSCALE:GREGORIAN
METHOD:PUBLISH
X-WR-CALNAME:SINGPromos.com
X-ORIGINAL-URL:https://singpromos.com
X-WR-CALDESC:Events for SINGPromos.com
BEGIN:VEVENT
DTSTART:20131231T000000
DTEND:20131231T235900
DTSTAMP:20260422T080353
CREATED:20131231T103411
LAST-MODIFIED:20131231T165536
UID:84653@https://singpromos.com
SUMMARY:Marina Bay Countdown 2014 @ Marina Bay 31 Dec 2013
DESCRIPTION:End the year with a blast at the crowning event finale of the year, the Marina Bay Singapore Countdown 2014, in the company of magnificent fireworks, light show and revelry.. For more information, visit [ https://singpromos.com/happenings/marina-bay-countdown-2014-marina-bay-31-dec-2013-84653/ ]. 
LOCATION:
URL:https://singpromos.com/happenings/marina-bay-countdown-2014-marina-bay-31-dec-2013-84653/
END:VEVENT
END:VCALENDAR