BEGIN:VCALENDAR
PRODID:-//SINGPromos.com//NONSGML v1.0//EN
VERSION:2.0
CALSCALE:GREGORIAN
METHOD:PUBLISH
X-WR-CALNAME:SINGPromos.com
X-ORIGINAL-URL:https://singpromos.com
X-WR-CALDESC:Events for SINGPromos.com
BEGIN:VEVENT
DTSTART:20140101T000000
DTEND:20140101T235900
DTSTAMP:20260422T062851
CREATED:20131231T121935
LAST-MODIFIED:20131231T122225
UID:84669@https://singpromos.com
SUMMARY:NHB Museums & Heritage Institutions FREE Admission To All Exhibitions 1 Jan 2014
DESCRIPTION:All visitors enjoy free admission to all exhibitions at the National Heritage Board museums and heritage institutions at the New Year's Day Open House on 1 January 2014!. For more information, visit [ https://singpromos.com/places-of-interest/nhb-museums-free-admission-to-all-nhb-exhibitions-1-jan-2014-84669/ ]. 
LOCATION:
URL:https://singpromos.com/places-of-interest/nhb-museums-free-admission-to-all-nhb-exhibitions-1-jan-2014-84669/
END:VEVENT
END:VCALENDAR