BEGIN:VCALENDAR
PRODID:-//SINGPromos.com//NONSGML v1.0//EN
VERSION:2.0
CALSCALE:GREGORIAN
METHOD:PUBLISH
X-WR-CALNAME:SINGPromos.com
X-ORIGINAL-URL:https://singpromos.com
X-WR-CALDESC:Events for SINGPromos.com
BEGIN:VEVENT
DTSTART:20131231T000000
DTEND:20140217T235900
DTSTAMP:20260422T062850
CREATED:20131231T135804
LAST-MODIFIED:20131231T135804
UID:84676@https://singpromos.com
SUMMARY:Skylight Abalone Offers @ Fairprice Xpress & Cheers 31 Dec 2013 - 17 Feb 2014
DESCRIPTION:Check out some Skylight abalone offers below. Get a FREE Spring Festival Charcoal Boiled Tender Abalone with purchase of any of these 4 Skylight Abalone products. For more information, visit [ https://singpromos.com/dining-restaurants-food/skylight-abalone-offers-fairprice-xpress-cheers-31-dec-2013-17-feb-2014-84676/ ]. 
LOCATION:
URL:https://singpromos.com/dining-restaurants-food/skylight-abalone-offers-fairprice-xpress-cheers-31-dec-2013-17-feb-2014-84676/
END:VEVENT
END:VCALENDAR