BEGIN:VCALENDAR
PRODID:-//SINGPromos.com//NONSGML v1.0//EN
VERSION:2.0
CALSCALE:GREGORIAN
METHOD:PUBLISH
X-WR-CALNAME:SINGPromos.com
X-ORIGINAL-URL:https://singpromos.com
X-WR-CALDESC:Events for SINGPromos.com
BEGIN:VEVENT
DTSTART:20140103T000000
DTEND:20140130T235900
DTSTAMP:20260422T062849
CREATED:20131231T182954
LAST-MODIFIED:20131231T143413
UID:84679@https://singpromos.com
SUMMARY:BPP & Lot One Abundence of Festive Joy Promotions & Activities 3 - 30 Jan 2014
DESCRIPTION:Usher in good fortune with these festive indulgences at Bukit Panjang Plaza and Lot One Shoppers Mall. For more information, visit [ https://singpromos.com/shopping-malls/bpp-lot-one-abundence-of-festive-joy-promotions-activities-3-30-jan-2014-84679/ ]. 
LOCATION:
URL:https://singpromos.com/shopping-malls/bpp-lot-one-abundence-of-festive-joy-promotions-activities-3-30-jan-2014-84679/
END:VEVENT
END:VCALENDAR